Workbook
Name Asphalt: 'Material Categories (locked) '!$D$6
Name Brick: 'Material Categories (locked) '!$D$23:$D$23
Name Concrete: 'Material Categories (locked) '!$D$7:$D$13
Name Glass: 'Material Categories (locked) '!$D$24:$D$25
Name Insulation: 'Material Categories (locked) '!$D$26
Name Material_Category: 'Material Categories (locked) '!$B$6:$B$26
Name Steel: 'Material Categories (locked) '!$D$14:$D$22

Sheet EPD Reporting Template
A1: Appendix M-1b: EPD Reporting Template
A2: B3 Guidelines - Version 3.2r03
A3: Copyright - Regents of the University of Minnesota
A5: Purpose:
B6: The purpose of this spreadsheet is to collect adequate product data in order to track and report material impacts, and verify compliance of EPDs submitted for materials/products.
A8: Instructions:
B9: Please complete the required fields for all eligible materials/products used on the project. For information on GWP limits, and mandatory and voluntary reporting for specific materials, please reference the
B10: State of Minnesota's Buy Clean policy at https://mn.gov/admin/government/purchasing-contracting/buy-clean/.
B11: The Material Categories tab lists the Standard Declared Units to be used for reporting GWP values from EPDs for specific materials/products, and is used to auto-populate the correct standard units for reporting.
B12: If a valid EPD is not available for a material/product, please include material data and quantity information below and provide a separate written statement detailing the reasoning and the steps that the project
B13: team has taken in an effort to obtain an EPD. For more details on requirements to request a waiver/exemption, please visit https://mn.gov/admin/government/purchasing-contracting/buy-clean/.
B14: The Project Average Approach tab may be utilized, if applicable, to calculate a weighted average Carbon Budget as an exception pathway. Note that this method can only be utilized if one or more
B15: products within a single material/product category (e.g. Readymix concrete) cannot meet specified GWP limit(s), and must demonstrate that the Carbon Budget for the product category is satisfied.
A16: Key:
B17: Blue highlighted areas show constants or outputs calculated by the spreadsheet
B18: Yellow highlighted areas show required inputs
A21: EPD Reporting Form - Submitter Information
B22: Name
B23: Title/Role
B24: Organization
B25: Email
B26: Phone
B27: Date of Form Submission
B28: Certify Information | C28: FALSE | D28: I hereby certify that, to the best of my knowledge, the information provided in this form is true and accurate.
A30: Team Contact Information
B31: Role | C31: Name | D31: Email | F31: Phone
B32: Project Architect
B33: Structural Project Engineer
B34: Prime Contractor
A36: Project Data
B37: Project Name
B38: Project Address
B39: Primary Building Type
B40: Building Area (m2)
A42: Material/Product Data
B43: Material Category | C43: Material Subcategory | D43: Specification Section or Bid Item No. | E43: Manufacturer Name | F43: Manufacturing Facility/Plant/Mill Locationa | G43: Product Name & Descriptionb | H43: Application/ Usage Details | I43: Product Quantity (in Declared Units**) | J43: Declared Unitsc | K43: Product Category Rule (PCR) listed on EPD | L43: EPD Expiration Date | M43: [A1] GWP-100 (kgCO2e per Declared Unit*) | N43: [A2] GWP-100 (kgCO2e per Declared Unit*) | O43: [A3] GWP-100 (kgCO2e per Declared Unit*) | P43: [TOTAL = A1+A2+A3] GWP-100 (kgCO2e per Declared Unit*)
A44: Ex. | B44: Concrete | C44: CIP ReadyMix Concrete - Standard | D44: 03 30 00 | E44: ABC Cem Inc. | F44: 123 Main Street, Minneapolis, MN 55411 | G44: 4000 PSI, 3/4, FLY, 4% AIR, VMA | H44: FOOTINGS | I44: 1203 | J44: =IF(C44="", "", VLOOKUP(C44,'Material Categories (locked) '!$D$6:$E$26,2,FALSE)) -> m3 (cubic meter) | K44: NSF International PCR for Concrete, v.2.3 extension, 2024-02-28 | L44: 47339 | M44: 218 | N44: 11.1 | O44: 15.2 | P44: 245
A45: 1 | J45: =IF(C45="", "", VLOOKUP(C45,'Material Categories (locked) '!$D$6:$E$26,2,FALSE))
A46: 2 | J46: =IF(C46="", "", VLOOKUP(C46,'Material Categories (locked) '!$D$6:$E$26,2,FALSE))
A47: 3 | J47: =IF(C47="", "", VLOOKUP(C47,'Material Categories (locked) '!$D$6:$E$26,2,FALSE))
A48: 4 | J48: =IF(C48="", "", VLOOKUP(C48,'Material Categories (locked) '!$D$6:$E$26,2,FALSE))
A49: 5 | J49: =IF(C49="", "", VLOOKUP(C49,'Material Categories (locked) '!$D$6:$E$26,2,FALSE))
A50: 6 | J50: =IF(C50="", "", VLOOKUP(C50,'Material Categories (locked) '!$D$6:$E$26,2,FALSE))
A51: 7 | J51: =IF(C51="", "", VLOOKUP(C51,'Material Categories (locked) '!$D$6:$E$26,2,FALSE))
A52: 8 | J52: =IF(C52="", "", VLOOKUP(C52,'Material Categories (locked) '!$D$6:$E$26,2,FALSE))
A53: 9
A54: 10
A55: 11
A56: 12
A57: 13 | J57: =IF(C57="", "", VLOOKUP(C57,'Material Categories (locked) '!$D$6:$E$26,2,FALSE))
A58: 14 | J58: =IF(C58="", "", VLOOKUP(C58,'Material Categories (locked) '!$D$6:$E$26,2,FALSE))
A59: 15 | J59: =IF(C59="", "", VLOOKUP(C59,'Material Categories (locked) '!$D$6:$E$26,2,FALSE))
A60: 16 | J60: =IF(C60="", "", VLOOKUP(C60,'Material Categories (locked) '!$D$6:$E$26,2,FALSE))
B61: *LW = Lightweight Concrete
B62: **HE = High Early Strenth Concrete
B63: a. Please provide address of where product originated (not the company's corporate office or distributor address).
B64: b. For Concrete Paving mixtures, please include: MnDOT Mix Number (e.g., RM051), Corresponding Sheet Number (RMX / RMS / JMF / PS — must match supplier sheet ID), MnDOT Grade (A, B, C, F, etc.). For Aphalt Paving mixtures, please include: (i) Mix Design Report Number (MDR #), (ii) Specification Entity, (iii) Specification Number & Mixture Designation, (iv) Gradation Type (Dense, Open, Gap), (v) Mix Design Method (Superpave), (vi) Nominal Maximum Aggregate Size (NMAS, mm), (vii) Performance Grade (PG) of Asphalt Binder, (viii) MnDOT Project Number (SP####-###) and Roadway (e.g., TH###)
B65: c. Please verify material quantities are reported in the Declared Units (which match the units that are reported in EPDs). Declared Units per material subcategory/product are listed in the Material Categories tab for reference, and are automatically generated in this table based on Material Subcategory specified.

Sheet Project Average (optional)
A1: Appendix M-1b: Project Average Approach (optional exception pathway)
A2: B3 Guidelines - Version 3.2r03
A3: Copyright - Regents of the University of Minnesota
A5: Purpose:
A6: The purpose of this sheet is to calculate a Carbon Budget and Project Average GWP, to demonstrate Buy Clean program compliance through an exception pathway, if one or more individual products does not meet the specified GWP limit.
A7: Note that this method can only be utilized within a single material/product subcategory (e.g. Readymix concrete) and calculations must demonstrate that the Project Carbon is less than or equal to the Carbon Budget.
A9: Instructions:
A10: Please complete the required fields for materials/products that will utilize the Project Average approach. This sheet, if applicable, must be completed in addition to the EPD Reporting Template main tab sheet.
A11: Please insert additional rows if needed. Compliance checks that the calculated Project Carbon is less than or equal to the Carbon Budget for each Material /Product Category.
A13: Key:
B14: Blue highlighted areas show constants or outputs calculated by the spreadsheet
B15: Yellow highlighted areas show required inputs
A18: Project Average/Carbon Budget - Submitter Information
B19: Name
B20: Title/Role
B21: Organization
B22: Email
B23: Phone
B24: Date of Submission
B25: Certify Information | C25: FALSE | D25: I hereby certify that, to the best of my knowledge, the information provided in this form is true and accurate.
A28: Material/Product Category - Example: ReadyMix Concrete | K28: Carbon Budget | M28: Project Carbon
B29: Material Category | C29: Material Subcategory | D29: Specification Section or Bid Item No. | E29: Manufacturer Name | F29: Manufacturing Facility/Plant/Mill Locationa | G29: Product Name & Descriptionb | H29: Application/ Usage Details | I29: Product Quantity (in Declared Units**) | J29: Declared Unitsc | K29: GWP Limit (kgCO2e per Declared Unit*) | L29: GWP Limit x Product Quantity | M29: Product GWP [A1+A2+A3] (kgCO2e per Declared Unit*) | N29: Product GWP x Product Quantity
A30: 1 | B30: Concrete | C30: CIP ReadyMix Concrete - Standard | D30: 03 30 00 | E30: ABC Cem Inc. | F30: 123 Main Street, Minneapolis, MN 55411 | G30: 4000 PSI, 3/4, FLY, 4% AIR, VMA | H30: FOOTINGS | I30: 850 | J30: =IF(C30="", "", VLOOKUP(C30,'Material Categories (locked) '!$D$6:$E$26,2,FALSE)) -> m3 (cubic meter) | K30: 312 | L30: =IF(I30*K30>0, I30*K30, "") -> 265200 | M30: 292 | N30: =IF(I30*K30>0, I30*M30, "") -> 248200
A31: 2 | B31: Concrete | C31: CIP ReadyMix Concrete - Standard | D31: 03 30 00 | E31: ABC Cem Inc. | F31: 123 Main Street, Minneapolis, MN 55411 | G31: 4500 PSI, 3/4G, FLY, MR, AE | H31: EXTERIOR SLABS AND WALLS | I31: 400 | J31: =IF(C31="", "", VLOOKUP(C31,'Material Categories (locked) '!$D$6:$E$26,2,FALSE)) -> m3 (cubic meter) | K31: 342 | L31: =IF(I31*K31>0, I31*K31, "") -> 136800 | M31: 332 | N31: =IF(I31*M31>0, I31*M31, "") -> 132800
A32: 3 | B32: Concrete | C32: CIP ReadyMix Concrete - Standard | D32: 03 30 00 | E32: ABC Cem Inc. | F32: 123 Main Street, Minneapolis, MN 55411 | G32: 5000 PSI, 3/4D, FLY, MR | H32: INTERIOR SOG/SLAB ON METAL DECK | I32: 550 | J32: =IF(C32="", "", VLOOKUP(C32,'Material Categories (locked) '!$D$6:$E$26,2,FALSE)) -> m3 (cubic meter) | K32: 372 | L32: =IF(I32*K32>0, I32*K32, "") -> 204600 | M32: 368 | N32: =IF(I32*M32>0, I32*M32, "") -> 202400
A33: 4 | B33: Concrete | C33: CIP ReadyMix Concrete - Standard | D33: 03 30 00 | E33: ABC Cem Inc. | F33: 123 Main Street, Minneapolis, MN 55411 | G33: 6000 PSI, 3/4D & 3/8 FLY, HRWRA, AEA, VMA | H33: COLUMNS/PIERS AND INTERIOR WALLS | I33: 300 | J33: =IF(C33="", "", VLOOKUP(C33,'Material Categories (locked) '!$D$6:$E$26,2,FALSE)) -> m3 (cubic meter) | K33: 394 | L33: =IF(I33*K33>0, I33*K33, "") -> 118200 | M33: 412 | N33: =IF(I33*M33>0, I33*M33, "") -> 123600
A34: 5 | J34: =IF(C34="", "", VLOOKUP(C34,'Material Categories (locked) '!$D$6:$E$26,2,FALSE)) | L34: =IF(I34*K34>0, I34*K34, "") | N34: =IF(I34*M34>0, I34*M34, "")
A35: 6 | J35: =IF(C35="", "", VLOOKUP(C35,'Material Categories (locked) '!$D$6:$E$26,2,FALSE)) | L35: =IF(I35*K35>0, I35*K35, "") | N35: =IF(I35*M35>0, I35*M35, "")
A36: 7 | J36: =IF(C36="", "", VLOOKUP(C36,'Material Categories (locked) '!$D$6:$E$26,2,FALSE)) | L36: =IF(I36*K36>0, I36*K36, "") | N36: =IF(I36*M36>0, I36*M36, "")
A37: 8 | J37: =IF(C37="", "", VLOOKUP(C37,'Material Categories (locked) '!$D$6:$E$26,2,FALSE)) | L37: =IF(I37*K37>0, I37*K37, "") | N37: =IF(I37*M37>0, I37*M37, "")
L39: Carbon Budget (kgCO2e) | N39: Actual Carbon (kgCO2e)
H40: TOTAL QUANTITY: | I40: =SUM(I30:I37) -> 2100 | J40: =IF(ISBLANK(J30),"-",J30) -> m3 (cubic meter) | K40: SUM of GWPxQty: | L40: =SUM(L30:L37) -> 724800 | M40: SUM of GWPxQty: | N40: =SUM(N30:N37) -> 707000
L42: COMPLIANCE CHECK: | M42: =IF(N40<=L40, "COMPLIANT", "NON-COMPLIANT") -> COMPLIANT
A45: Material/Product Category A | K45: Carbon Budget | M45: Project Carbon
B46: Material Category | C46: Material Subcategory | D46: Specification Section or Bid Item No. | E46: Manufacturer Name | F46: Manufacturing Facility/Plant/Mill Locationa | G46: Product Name & Descriptionb | H46: Application/ Usage Details | I46: Product Quantity (in Declared Units**) | J46: Declared Unitsc | K46: GWP Limit (kgCO2e per Declared Unit*) | L46: GWP Limit x Product Quantity | M46: Product GWP [A1+A2+A3] (kgCO2e per Declared Unit*) | N46: Product GWP x Product Quantity
A47: Ex. | B47: Concrete | C47: CIP ReadyMix Concrete - Standard | D47: 03 30 00 | E47: ABC Cem Inc. | F47: 123 Main Street, Minneapolis, MN 55411 | G47: 4000 PSI, 3/4, FLY, 4% AIR, VMA | H47: FOOTINGS | I47: 850 | J47: =IF(C47="", "", VLOOKUP(C47,'Material Categories (locked) '!$D$6:$E$26,2,FALSE)) -> m3 (cubic meter) | K47: 312 | L47: =IF(I47*K47>0, I47*K47, "") -> 265200 | M47: 245 | N47: =IF(I47*M47>0, K47*M47, "") -> 76440
A48: 1
A49: 2
A50: 3
A51: 4
A52: 5 | J52: =IF(C52="", "", VLOOKUP(C52,'Material Categories (locked) '!$D$6:$E$26,2,FALSE)) | L52: =IF(I52*K52>0, I52*K52, "") | N52: =IF(I52*M52>0, I52*M52, "")
A53: 6 | J53: =IF(C53="", "", VLOOKUP(C53,'Material Categories (locked) '!$D$6:$E$26,2,FALSE)) | L53: =IF(I53*K53>0, I53*K53, "") | N53: =IF(I53*M53>0, I53*M53, "")
A54: 7 | J54: =IF(C54="", "", VLOOKUP(C54,'Material Categories (locked) '!$D$6:$E$26,2,FALSE)) | L54: =IF(I54*K54>0, I54*K54, "") | N54: =IF(I54*M54>0, I54*M54, "")
A55: 8 | J55: =IF(C55="", "", VLOOKUP(C55,'Material Categories (locked) '!$D$6:$E$26,2,FALSE)) | L55: =IF(I55*K55>0, I55*K55, "") | N55: =IF(I55*M55>0, I55*M55, "")
L57: Carbon Budget (kgCO2e) | N57: Actual Carbon (kgCO2e)
H58: TOTAL QUANTITY: | I58: =SUM(I48:I55) -> 0 | J58: =IF(ISBLANK(J48),"-",J48) -> - | K58: SUM of GWPxQty: | L58: =SUM(L48:L55) -> 0 | M58: SUM of GWPxQty: | N58: =SUM(N48:N55) -> 0
L60: COMPLIANCE CHECK: | M60: =IF(N58<=L58, "COMPLIANT", "NON-COMPLIANT") -> COMPLIANT
A63: Material/Product Category B | K63: Carbon Budget | M63: Project Carbon
B64: Material Category | C64: Material Subcategory | D64: Specification Section or Bid Item No. | E64: Manufacturer Name | F64: Manufacturing Facility/Plant/Mill Locationa | G64: Product Name & Descriptionb | H64: Application/ Usage Details | I64: Product Quantity (in Declared Units**) | J64: Declared Unitsc | K64: GWP Limit (kgCO2e per Declared Unit*) | L64: GWP Limit x Product Quantity | M64: Product GWP [A1+A2+A3] (kgCO2e per Declared Unit*) | N64: Product GWP x Product Quantity
A65: Ex. | B65: Concrete | C65: CIP ReadyMix Concrete - Standard | D65: 03 30 00 | E65: ABC Cem Inc. | F65: 123 Main Street, Minneapolis, MN 55411 | G65: 4000 PSI, 3/4, FLY, 4% AIR, VMA | H65: FOOTINGS | I65: 850 | J65: =IF(C65="", "", VLOOKUP(C65,'Material Categories (locked) '!$D$6:$E$26,2,FALSE)) -> m3 (cubic meter) | K65: 312 | L65: =IF(I65*K65>0, I65*K65, "") -> 265200 | M65: 245 | N65: =IF(I65*M65>0, K65*M65, "") -> 76440
A66: 1
A67: 2
A68: 3
A69: 4
A70: 5 | J70: =IF(C70="", "", VLOOKUP(C70,'Material Categories (locked) '!$D$6:$E$26,2,FALSE)) | L70: =IF(I70*K70>0, I70*K70, "") | N70: =IF(I70*M70>0, I70*M70, "")
A71: 6 | J71: =IF(C71="", "", VLOOKUP(C71,'Material Categories (locked) '!$D$6:$E$26,2,FALSE)) | L71: =IF(I71*K71>0, I71*K71, "") | N71: =IF(I71*M71>0, I71*M71, "")
A72: 7 | J72: =IF(C72="", "", VLOOKUP(C72,'Material Categories (locked) '!$D$6:$E$26,2,FALSE)) | L72: =IF(I72*K72>0, I72*K72, "") | N72: =IF(I72*M72>0, I72*M72, "")
A73: 8 | J73: =IF(C73="", "", VLOOKUP(C73,'Material Categories (locked) '!$D$6:$E$26,2,FALSE)) | L73: =IF(I73*K73>0, I73*K73, "") | N73: =IF(I73*M73>0, I73*M73, "")
L75: Carbon Budget (kgCO2e) | N75: Actual Carbon (kgCO2e)
H76: TOTAL QUANTITY: | I76: =SUM(I66:I73) -> 0 | J76: =IF(ISBLANK(J66),"-",J66) -> - | K76: SUM of GWPxQty: | L76: =SUM(L66:L73) -> 0 | M76: SUM of GWPxQty: | N76: =SUM(N66:N73) -> 0
L78: COMPLIANCE CHECK: | M78: =IF(N76<=L76, "COMPLIANT", "NON-COMPLIANT") -> COMPLIANT
A81: Material/Product Category C | K81: Carbon Budget | M81: Project Carbon
B82: Material Category | C82: Material Subcategory | D82: Specification Section or Bid Item No. | E82: Manufacturer Name | F82: Manufacturing Facility/Plant/Mill Locationa | G82: Product Name & Descriptionb | H82: Application/ Usage Details | I82: Product Quantity (in Declared Units**) | J82: Declared Unitsc | K82: GWP Limit (kgCO2e per Declared Unit*) | L82: GWP Limit x Product Quantity | M82: Product GWP [A1+A2+A3] (kgCO2e per Declared Unit*) | N82: Product GWP x Product Quantity
A83: Ex. | B83: Concrete | C83: CIP ReadyMix Concrete - Standard | D83: 03 30 00 | E83: ABC Cem Inc. | F83: 123 Main Street, Minneapolis, MN 55411 | G83: 4000 PSI, 3/4, FLY, 4% AIR, VMA | H83: FOOTINGS | I83: 850 | J83: =IF(C83="", "", VLOOKUP(C83,'Material Categories (locked) '!$D$6:$E$26,2,FALSE)) -> m3 (cubic meter) | K83: 312 | L83: =IF(I83*K83>0, I83*K83, "") -> 265200 | M83: 245 | N83: =IF(I83*M83>0, K83*M83, "") -> 76440
A84: 1
A85: 2
A86: 3
A87: 4
A88: 5 | J88: =IF(C88="", "", VLOOKUP(C88,'Material Categories (locked) '!$D$6:$E$26,2,FALSE)) | L88: =IF(I88*K88>0, I88*K88, "") | N88: =IF(I88*M88>0, I88*M88, "")
A89: 6 | J89: =IF(C89="", "", VLOOKUP(C89,'Material Categories (locked) '!$D$6:$E$26,2,FALSE)) | L89: =IF(I89*K89>0, I89*K89, "") | N89: =IF(I89*M89>0, I89*M89, "")
A90: 7 | J90: =IF(C90="", "", VLOOKUP(C90,'Material Categories (locked) '!$D$6:$E$26,2,FALSE)) | L90: =IF(I90*K90>0, I90*K90, "") | N90: =IF(I90*M90>0, I90*M90, "")
A91: 8 | J91: =IF(C91="", "", VLOOKUP(C91,'Material Categories (locked) '!$D$6:$E$26,2,FALSE)) | L91: =IF(I91*K91>0, I91*K91, "") | N91: =IF(I91*M91>0, I91*M91, "")
L93: Carbon Budget (kgCO2e) | N93: Actual Carbon (kgCO2e)
H94: TOTAL QUANTITY: | I94: =SUM(I84:I91) -> 0 | J94: =IF(ISBLANK(J84),"-",J84) -> - | K94: SUM of GWPxQty: | L94: =SUM(L84:L91) -> 0 | M94: SUM of GWPxQty: | N94: =SUM(N84:N91) -> 0
L96: COMPLIANCE CHECK: | M96: =IF(N94<=L94, "COMPLIANT", "NON-COMPLIANT") -> COMPLIANT
A99: Material/Product Category D | K99: Carbon Budget | M99: Project Carbon
B100: Material Category | C100: Material Subcategory | D100: Specification Section or Bid Item No. | E100: Manufacturer Name | F100: Manufacturing Facility/Plant/Mill Locationa | G100: Product Name & Descriptionb | H100: Application/ Usage Details | I100: Product Quantity (in Declared Units**) | J100: Declared Unitsc | K100: GWP Limit (kgCO2e per Declared Unit*) | L100: GWP Limit x Product Quantity | M100: Product GWP [A1+A2+A3] (kgCO2e per Declared Unit*) | N100: Product GWP x Product Quantity
A101: Ex. | B101: Concrete | C101: CIP ReadyMix Concrete - Standard | D101: 03 30 00 | E101: ABC Cem Inc. | F101: 123 Main Street, Minneapolis, MN 55411 | G101: 4000 PSI, 3/4, FLY, 4% AIR, VMA | H101: FOOTINGS | I101: 850 | J101: =IF(C101="", "", VLOOKUP(C101,'Material Categories (locked) '!$D$6:$E$26,2,FALSE)) -> m3 (cubic meter) | K101: 312 | L101: =IF(I101*K101>0, I101*K101, "") -> 265200 | M101: 245 | N101: =IF(I101*M101>0, K101*M101, "") -> 76440
A102: 1
A103: 2
A104: 3
A105: 4
A106: 5 | J106: =IF(C106="", "", VLOOKUP(C106,'Material Categories (locked) '!$D$6:$E$26,2,FALSE)) | L106: =IF(I106*K106>0, I106*K106, "") | N106: =IF(I106*M106>0, I106*M106, "")
A107: 6 | J107: =IF(C107="", "", VLOOKUP(C107,'Material Categories (locked) '!$D$6:$E$26,2,FALSE)) | L107: =IF(I107*K107>0, I107*K107, "") | N107: =IF(I107*M107>0, I107*M107, "")
A108: 7 | J108: =IF(C108="", "", VLOOKUP(C108,'Material Categories (locked) '!$D$6:$E$26,2,FALSE)) | L108: =IF(I108*K108>0, I108*K108, "") | N108: =IF(I108*M108>0, I108*M108, "")
A109: 8 | J109: =IF(C109="", "", VLOOKUP(C109,'Material Categories (locked) '!$D$6:$E$26,2,FALSE)) | L109: =IF(I109*K109>0, I109*K109, "") | N109: =IF(I109*M109>0, I109*M109, "")
L111: Carbon Budget (kgCO2e) | N111: Actual Carbon (kgCO2e)
H112: TOTAL QUANTITY: | I112: =SUM(I102:I109) -> 0 | J112: =IF(ISBLANK(J102),"-",J102) -> - | K112: SUM of GWPxQty: | L112: =SUM(L102:L109) -> 0 | M112: SUM of GWPxQty: | N112: =SUM(N102:N109) -> 0
L114: COMPLIANCE CHECK: | M114: =IF(N112<=L112, "COMPLIANT", "NON-COMPLIANT") -> COMPLIANT

Sheet Material Categories (locked) 
A1: Material Categories, CSI Specification Sections, and Standard Declared Units for Reporting GWP from EPDs
A2: Version Date: April 27, 2026
B5: Material Category | C5: CSI Spec Section | D5: Subcategory / Product Description | E5: Standard Declared Unit (for reporting GWP from EPDs)
B6: Asphalt | C6: 02 25 00 | D6: Asphalt Paving Mixtures | E6: mt (metric tonne)
B7: Concrete | C7: 03 30 00 | D7: CIP ReadyMix Concrete - Standard | E7: m3 (cubic meter)
C8: 03 30 00 | D8: CIP ReadyMix Concrete - LW* | E8: m3 (cubic meter)
C9: 03 30 00 | D9: CIP ReadyMix Concrete - HE** | E9: m3 (cubic meter)
C10: 03 30 00 | D10: CIP ReadyMix Concrete Paving | E10: m3 (cubic meter)
C11: 03 41 00 | D11: Precast Concrete - Structural | E11: mt (metric tonne)
C12: 03 45 00 | D12: Precast Concrete - Architectural | E12: mt (metric tonne)
C13: 04 22 00 | D13: Concrete Masonry Unit (CMU) Block | E13: m3 (cubic meter)
B14: Steel | C14: 03 20 00 / 03 21 00 | D14: Concrete Reinforcing Steel Bars (rebar) | E14: mt (metric tonne)
C15: 05 12 00 | D15: Hot-rolled sections | E15: mt (metric tonne)
C16: 05 12 00 | D16: Plate | E16: mt (metric tonne)
C17: 05 12 00 | D17: HSS | E17: mt (metric tonne)
C18: 05 20 00 | D18: Steel joists (open web) | E18: mt (metric tonne)
C19: 05 31 10 | D19: Steel decking | E19: mt (metric tonne)
C20: 05 40 00 | D20: Cold-formed steel (stud framing) | E20: mt (metric tonne)
C21: 05 00 00 | D21: Aluminum extrusions (optional) | E21: mt (metric tonne)
C22: 07 74 00 | D22: Metal wall panels (optional) | E22: 100 m2 (per 100 square meters)
B23: Brick | C23: 04 22 00 | D23: Brick Masonry (Clay) (optional) | E23: m2 (square meter)c
B24: Glass | C24: 08 80 00 | D24: IGUs (optional) | E24: m2 (square meter)
C25: 08 81 00 | D25: Panes (optional) | E25: mt (metric tonne) or kg (kilogram)
B26: Insulation | C26: 07 21 00 | D26: Thermal Insulation - Heavy Density (optional) | E26: 1 m2 RSI-1
C27: 07 21 00 | D27: Thermal Insulation - Light Density (optional) | E27: 1 m2 RSI-1
B28: * LW = Lightweight
B29: ** HE = High Early Strenth
B30: c. See Table 2 of the applicable PCR for functional unit definitions for clay brick, clay brick pavers, and structural clay tile products.

Sheet 2026 MN GWP Limits (locked) 
A1: 2026 Minnesota Buy Clean GWP Limits
B2: These GWP limits will apply to projects advertised on or after July 15, 2026.
B3: For more information, please visit: | C3: https://mn.gov/admin/government/purchasing-contracting/buy-clean/
B5: Table 1: GWP Limits for Concrete Materials
B6: Material Category¹ | E6: Maximum Allowable GWP Limit
B8: Ready-Mix Concrete² Used in Buildings (kgCO2e/m3) based on concrete compressive strength (f'c in psi) | C8: Normal-Weight concrete (NW) | D8: f'c ≤ 2500 psi | E8: 241 kgCO2e/m3
D9: 3000 psi | E9: 264 kgCO2e/m3
D10: 4000 psi | E10: 312 kgCO2e/m3
D11: 5000 psi | E11: 372 kgCO2e/m3
D12: 6000 psi | E12: 394 kgCO2e/m3
D13: 8000 psi | E13: 460 kgCO2e/m3
C14: Lightweight concrete (LW) | D14: 3000 psi | E14: 487 kgCO2e/m3
D15: 4000 psi | E15: 537 kgCO2e/m3
D16: 5000 psi | E16: 591 kgCO2e/m3
C17: Add 30% to these GWP limits where high early strength3 concrete mixes are required for technical reasons.
B18: Concrete Masonry Units (CMU) | E18: TBD4
B19: Precast/Prestressed Concrete | E19: TBD4
B20: 1. Only permanently installed materials must be considered. 2. (a) GWP values shown are categorized by 28-day concrete compressive strengths (psi) and are based on NRMCA's North Central Regional Baseline values published in NRMCA's National and Regional LCA Benchmark Report v3.2 (2022). (b) Limits shown do not apply to concrete pavement mix designs and mix designs for abutting concrete elements for roadway applications such as curbs, sidewalks, aprons, barriers, and retaining walls. GWP limits specific to concrete pavement and abutting concrete element applications will be developed at a later date, taking into account other factors, aside from concrete compressive strength, including but not limited to permeability, workability, smoothness, and functional application which may warrant creation of additional concrete subclassifications unique to pavement. (c) Portable/mobile batch plants need not meet the GWP limits shown, but required material EPD data shall be submitted as recommended in NSF PCR for Concrete v2.3 – 2025 Extension (NSF 1112-19 with 2024 deviation and 2025 Extension). (d) Requirements apply to concrete utilized on the project site including but not limited to: building elements (walls, beams, columns, slabs, foundations, etc.), hardscape, curbs, site retaining walls, sidewalks, aprons, barriers, and other cast-in-place concrete elements on building sites. 3. “High early strength” is concrete that, through the use of additional cement, high-early-strength cement, or admixtures, has accelerated early-age strength development. High early strength concrete produced using additional cement should be avoided where possible, due to its higher embodied carbon. An affected project delivery team must submit documentation from the Structural Engineer of Record (SEOR) on whether high early strength concrete is necessary for technical reasons, and obtain written approval from the Department of Administration or Department of Transportation prior to procurement. This 30% allowance reflects input from building sustainability experts, general contractors, engineers, and ready-mix or cement producers. 4. Lack of data at this time. It is anticipated that limits will be set for these materials once data availability and accuracy improve. Please note: Items (mixtures, materials, products) for which GWP limits are not set per this table require mandatory EPD disclosure, though they are not bound by GWP limits at this time.
B23: Table 2: GWP Limits for Steel Reinforcing Bar (Rebar) Used in Buildings
B24: Steel Product Category | C24: Maximum GWP¹ Limit at Mill or Manufacturer Gate | D24: Equivalent GWP¹ Limit Converted for use with Fabricated² Product EPD
B25: Steel Reinforcing Bar (Rebar)3 | C25: 0.755 | D25: 0.854
B26: 1. GWP limits shown are in dimensionless standard units (ton CO2e / ton steel or kg CO2e / kg steel). GWP limits are based on a 100-year lifetime impact (GWP-100) in accordance with the Product Category Rule (PCR) for Designated Steel Construction Products. The GWP value shown for fabricated reinforcing steel is based on the Industry Wide EPD: Environmental Product Declaration: Fabricated Steel Reinforcement, Concrete Reinforcing Steel Institute (CRSI), 2022. The unfabricated value is back-calculated from the report. 2. GWP Limits are based on cradle-to-mill-gate or cradle-to-manufacturer-gate LCA scopes, as appropriate for the particular steel product. When interpreting individual steel product EPDs, care should be taken to identify the GWP value that corresponds to the correct LCA scope. When multiple scope values are present in an EPD, preference shall be given to the cradle-to-mill-gate or cradle-to-manufacturer-gate LCA scopes when evaluating compliance with the above table. When the cradle-to-mill-gate or cradle-to-manufacturer-gate LCA scopes are not listed explicitly in individual steel product EPDs, this is likely due to the values being reported as cradle-to-fabricator-gate LCA scopes. In that case, one may use the values listed in the column, Equivalent GWP Limit Converted for use with Fabricated Product. The values in this column include the effects of scrap rates, transportation to fabrication, and fabrication. Impacts from reinforcing bars are from the CRSI industry-wide EPD (2022) and indicate a scrap rate of 3.0% (A1 multiplier), transportation (A2) of 0.0490 tons/ton, and fabrication (A3) of 0.0270 tons/ton. 3. The Reinforcing Steel Bar product category includes all rebar grade ASTM A615(M) and ASTM A706(M).
